BEGIN:VCALENDAR
VERSION:2.0
PRODID:-//Squarespace Inc/Squarespace 6//v6//EN
BEGIN:VEVENT
UID:5df721174ef8f11afccc1651@squarespace.com
DTSTAMP:20191216T062710Z
DTSTART:20200205T000000Z
DTEND:20200205T020000Z
SUMMARY:S4G Partners Launch
GEO:-43.532612;172.631591
LOCATION:Ministry of Education\, 48 Hereford Street\, West End\, Christchur
 ch 8013\, New Zealand
END:VEVENT
END:VCALENDAR
